Workbook

Sheet приложение
DV1: Приложение к решению Совета депутатов города Мурманска от 27.09.2016 № 29-512
A2: Изменения в приложение № 1 к решению Мурманского городского Совета от 30.05.2005 № 9-104 "О реестре муниципального имущества города Мурманска" (в редакции решения Совета депутатов города Мурманска от 23.06.2016 № 27-423)
A3: № п/п | B3: № п/п в приложении № 1 к решению Мурманского городского Совета от 30.05.2005 № 9-104 | D3: Тип муниципального объекта недвижимости | E3: Реестровый номер | G3: Адрес объекта недвижимости | DP3: исключить из общей | DQ3: исключить из подвала | DR3: Общая площадь 9-104 | DS3: Площадь подвала 9-104 | DT3: Балансовая 9-104 | DU3: Общая площадь муниципального объекта недвижимости (кв.м) в 9-104 | DV3: В том числе площадь подвала (кв.м) в 9-104 | DW3: Балансовая стоимость на 01.04.2005 (руб.) в 9-104 | DX3: Общая площадь муниципального объекта недвижимости (кв.м) | DY3: В том числе площадь подвала (кв.м) | DZ3: Балансовая стоимость на 01.04.2005 (руб.) | EA3: Общая площадь муниципального объекта недвижимости (кв.м) исключаемая | EB3: В том числе площадь подвала (кв.м) исключаемая
A4: 1 | B4: 2 | D4: 3 | E4: 4 | G4: 5 | DU4: 6 | DV4: 7 | DX4: 6 | DY4: 7 | DZ4: 8
A5: 1 | B5: 84 | C5: 725 | D5: нежилые помещения в жилом доме | E5: 51:Л:НЖ- | F5: 84 | G5: г.Мурманск, | H5: л | I5: Гагарина, 19 | J5: 8 | K5: 108 | L5: л | N5: 2909.8 | O5: 354.9 | P5: 2554.9 | Q5: 1964 | R5: кирп. | S5: 1988 | T5: 5 | U5: 4 | V5: 12 | W5: 5071 | X5: 1016 | Y5: 15241 | AA5: 3948.6 | AC5: 2554.9 | AD5: 1645.3 | AE5: 2554.9 | AF5: 1393.7 | AH5: 1038.8 | AI5: 657.3 | AJ5: 26.7 | AM5: 64 | AN5: 16 | AP5: 508.8 | AQ5: 293.8 | AR5: 48 | AS5: 2046.1 | AT5: 1351.5 | BL5: 108 | BM5: л | BN5: 01010339 | BP5: Юрия Гагарина д.19 | DU5: 380.2 | DW5: 1686284.3 | DX5: =DU5-EA5 -> 344.5 | DY5: =DV5-EB5 -> 0 | DZ5: =DX5*DW5/DU5 -> 1527945.7 | EA5: 35.7 | EB5: 0
A6: 2 | B6: 125 | C6: 403 | D6: нежилые помещения в жилом доме | E6: 51:Л:НЖ- | F6: 125 | G6: г.Мурманск, | H6: л | I6: Гаджиева, 8 | J6: 3 | K6: 152 | L6: л | N6: 3847.9 | O6: 1435.8 | P6: 2412.1 | Q6: 1966 | R6: кирп. | T6: 5 | U6: 4 | W6: 3358 | Y6: 15887 | AA6: 3847.9 | AC6: 2412.1 | AD6: 1597 | AE6: 2412.1 | AF6: 1435.8 | AI6: 143.1 | AJ6: 42.9 | AM6: 60 | AN6: 30 | AR6: 15 | AU6: 15 | BL6: 152 | BM6: л | BN6: 01010138 | BP6: Магомета Гаджиева д.8 | DU6: 1435.8 | DV6: 143.1 | DW6: 6978473.1 | DX6: =DU6-EA6 -> 1392.9 | DY6: =DV6-EB6 -> 100.2 | DZ6: =DX6*DW6/DU6 -> 6769964.6 | EA6: 42.9 | EB6: 42.9
A7: 3 | B7: 165 | D7: нежилые помещения в жилом доме | E7: 51:Л:НЖ- | F7: 165 | G7: г.Мурманск, | H7: л | I7: К.Либкнехта, 21/22 | J7: 1 | K7: 217 | L7: л | N7: =O7+P7 -> 2319.1 | O7: =AF7-AG7-AH7 -> 409.8 | P7: 1909.3 | Q7: 1955 | R7: кирп. | S7: 1992 | T7: 4 | U7: 3 | V7: 27 | W7: 1448 | X7: 837 | Y7: 11139 | AA7: 2319.1 | AC7: 1909.3 | AD7: 1153.7 | AE7: 1909.3 | AF7: 409.8 | AI7: 107 | AJ7: 0 | AM7: 29 | AR7: 18 | AS7: 1027.4 | AT7: 591.3 | AU7: 6 | AV7: 484.5 | AW7: 287.9 | AX7: 5 | AY7: 395.5 | AZ7: 274.4 | BL7: 217 | BM7: л | BN7: 01010015 | BP7: Карла Либкнехта д.21/22 | DU7: 409.8 | DV7: 107 | DW7: 1840387 | DX7: =DU7-EA7 -> 302.8 | DY7: =DV7-EB7 -> 0 | DZ7: =DX7*DW7/DU7 -> 1359856.5 | EA7: 107 | EB7: 107
A8: 4 | B8: 221 | C8: 649 | D8: нежилые помещения в жилом доме | E8: 51:Л:НЖ- | F8: 221 | G8: г.Мурманск, | H8: л | I8: Лобова, 27 к.3 | J8: 6 | K8: 304 | L8: л | N8: 3528.6 | O8: 99.3 | P8: 3429.3 | Q8: 1982 | R8: кр.пан. | S8: 1988 | T8: 9 | U8: 2 | V8: 4 | W8: 7658 | X8: 578 | Y8: 14589 | Z8: 3491.2 | AC8: 3391.9 | AD8: 1937.9 | AE8: 3429.3 | AF8: 99.3 | AI8: 68.4 | AJ8: 68.4 | AM8: 71 | AN8: 18 | AP8: 585.3 | AQ8: 328.7 | AR8: 35 | AS8: 1664.4 | AT8: 922.3 | AU8: 17 | AV8: 1064.4 | AW8: 638.3 | AX8: 1 | AY8: 77.8 | AZ8: 48.6 | BL8: 304 | BM8: л | BN8: 01010583 | BP8: Адмирала флота Лобова д.27 корп.3 | DU8: 99.3 | DV8: 68.4 | DW8: 1629946.4 | DX8: =DU8-EA8 -> 22.3 | DY8: =DV8-EB8 -> 0 | DZ8: =DX8*DW8/DU8 -> 366040.32 | EA8: 77 | EB8: 68.4
A9: 5 | B9: 230 | D9: нежилые помещения в жилом доме | E9: 51:Л:НЖ- | F9: 230 | G9: г.Мурманск, | H9: л | I9: Лобова, 35 | J9: 10 | K9: 313 | L9: л | N9: 3758.9 | O9: 184.6 | P9: 3574.3 | Q9: 1958 | R9: кирп. | S9: 1999 | T9: 5 | U9: 4 | V9: 23 | W9: 3022 | X9: 1047 | Y9: 3282 | AA9: 4277.6 | AC9: 3574.3 | AD9: 2307.8 | AE9: 3574.3 | AF9: 703.3 | AG9: 518.7 | AI9: 201.1 | AJ9: 37.1 | AK9: 69.1 | AL9: 419.1 | AM9: 60 | AR9: 40 | AS9: 2033.5 | AT9: 1237.6 | AU9: 20 | AV9: 1540.8 | AW9: 1070.2 | BL9: 313 | BM9: л | BN9: 01012387 | BP9: Адмирала флота Лобова д.35 | DU9: 541.8 | DV9: 201.1 | DW9: 2188428.3 | DX9: =DU9-EA9 -> 440.3 | DY9: =DV9-EB9 -> 99.6 | DZ9: =DX9*DW9/DU9 -> 1778451.5 | EA9: 101.5 | EB9: 101.5
A10: 6 | B10: 233 | C10: 196 | D10: нежилые помещения в жилом доме | E10: 51:Л:НЖ- | F10: 233 | G10: г.Мурманск, | H10: л | I10: Лобова, 39/13 | J10: 10 | K10: 316 | L10: л | N10: 5695.1 | O10: 1706.2 | P10: 3988.9 | Q10: 1956 | R10: кирп. | S10: 1999 | T10: 5 | U10: 4 | V10: 44 | W10: 3484 | X10: 1470 | Y10: 27286 | AA10: 5695.1 | AC10: 3988.9 | AD10: 2383.3 | AE10: 3988.9 | AF10: 1706.2 | AI10: 731.3 | AJ10: 32 | AK10: 18.1 | AM10: 65 | AR10: 45 | AS10: 2458.7 | AT10: 1423.8 | AU10: 20 | AV10: 1530.2 | AW10: 959.5 | BL10: 316 | BM10: л | BN10: 01012388 | BP10: Адмирала флота Лобова д.39/13 | DU10: 1657.1 | DV10: 731.3 | DW10: 6342434.7 | DX10: =DU10-EA10 -> 1607 | DY10: =DV10-EB10 -> 681.2 | DZ10: =DX10*DW10/DU10 -> 6150680.4 | EA10: 50.1 | EB10: 50.1
A11: 7 | B11: 555 | C11: 405 | D11: нежилые помещения в жилом доме | E11: 51:Л:НЖ- | F11: 555 | G11: г.Мурманск, | H11: л | I11: Сивко, 9 корп.4 | J11: 10 | K11: 703 | L11: л | N11: 5908.6 | O11: 97.9 | P11: 3491.2 | Q11: 1989 | R11: кр.пан. | S11: 1999 | T11: 9 | U11: 2 | V11: 7 | W11: 6258 | X11: 971 | Y11: 14560 | Z11: 3547.6 | AC11: 3449.7 | AD11: 2004.2 | AE11: 3491.2 | AF11: 97.9 | AI11: 67 | AJ11: 67 | AK11: 30.9 | AM11: 71 | AN11: 18 | AP11: 586.8 | AQ11: 326.7 | AR11: 35 | AS11: 1694.8 | AT11: 958.8 | AU11: 17 | AV11: 1089.8 | AW11: 668.9 | AX11: 1 | AY11: 78.3 | AZ11: 49.8 | BL11: 703 | BM11: л | BN11: 01012327 | BP11: Ивана Сивко д.9 корп.4 | DU11: 97.9 | DV11: 67 | DW11: 831966.51 | DX11: =DU11-EA11 -> 23.2 | DY11: =DV11-EB11 -> 0 | DZ11: =DX11*DW11/DU11 -> 197156.52 | EA11: 74.7 | EB11: 67
A12: 8 | B12: 583 | D12: нежилые помещения в жилом доме | E12: 51:Л:НЖ- | F12: 583 | G12: г.Мурманск, | H12: л | I12: Халатина, 11а | J12: 4 | K12: 738 | L12: л | N12: =O12+P12 -> 4869 | O12: =AF12-AG12-AH12 -> 270.8 | P12: 4598.2 | Q12: 1968 | R12: кирп. | S12: 1994 | T12: 6 | U12: 6 | V12: 19 | W12: 3400 | X12: 3400 | Y12: 18697 | AA12: 4852.2 | AC12: 4581.4 | AD12: 3032.2 | AE12: 4598.2 | AF12: 270.8 | AI12: 270.8 | AJ12: 22.5 | AM12: 100 | AN12: 15 | AP12: 461.2 | AQ12: 253.1 | AR12: 60 | AS12: 2646.8 | AT12: 1726.3 | AU12: 25 | AV12: 1473.4 | AW12: 1052.8 | BA12: 4 | BB12: 206.1 | BC12: 141.7 | BL12: 738 | BM12: л | BN12: 01010192 | BP12: проезд Ивана Халатина д.11 а | DU12: 270.8 | DV12: 270.8 | DW12: 1150470.4 | DX12: =DU12-EA12 -> 248.3 | DY12: =DV12-EB12 -> 248.3 | DZ12: =DX12*DW12/DU12 -> 1054881.1 | EA12: 22.5 | EB12: 22.5
A13: 9 | B13: 588 | C13: 471 | D13: нежилые помещения в жилом доме | E13: 51:Л:НЖ- | F13: 588 | G13: г.Мурманск, | H13: л | I13: Халатина, 16 | J13: 4 | K13: 743 | L13: л | N13: 4027.3 | O13: 14 | P13: 4013.3 | Q13: 1970 | R13: кр.пан | S13: 1994 | T13: 9 | U13: 2 | V13: 13 | W13: 3971 | X13: 647 | Y13: 15819 | Z13: 3847.4 | AC13: 3833.4 | AD13: 2646.1 | AE13: 4013.3 | AF13: 14 | AI13: 14 | AJ13: 14 | AM13: 72 | AR13: 18 | AS13: 777.7 | AT13: 492.2 | AU13: 54 | AV13: 3055.7 | AW13: 2153.9 | BA13: 6 | BB13: 312.4 | BC13: 213.9 | BL13: 743 | BM13: л | BN13: 01010197 | BP13: проезд Ивана Халатина д.16 | DU13: 74.7 | DV13: 14 | DW13: 505671.27 | DX13: =DU13-EA13 -> 60.7 | DY13: 0 | DZ13: =DX13*DW13/DU13 -> 410900.22 | EA13: 14 | EB13: 14
A14: 10 | B14: 719 | C14: 750 | D14: нежилые помещения в жилом доме | E14: 51:О:НЖ- | F14: 38 | G14: г.Мурманск, | H14: о | I14: Володарского, 12 | J14: 9 | K14: 39 | L14: о | N14: 2118.3 | O14: 724.1 | P14: 1394.2 | Q14: 1952 | R14: кирп. | S14: 1984 | T14: 4 | U14: 2 | V14: 25 | W14: 1357 | X14: 606 | Y14: 9507 | AA14: 2118.3 | AB14: 0 | AC14: 1394.2 | AD14: 795.5 | AE14: 1394.2 | AF14: 724.1 | AI14: 410.4 | AJ14: 16.2 | AM14: 26 | AQ14: 19 | AR14: 946.8 | AS14: 562.2 | AT14: 7 | AU14: 447.4 | AV14: 287.4 | BL14: 39 | BM14: о | BN14: 01011028 | BP14: Володарского д.12 | DU14: 673.7 | DV14: 410.4 | DW14: 2785277.7 | DX14: =DU14-EA14 -> 263.3 | DY14: =DV14-EB14 -> 0 | DZ14: =DX14*DW14/DU14 -> 1088561.1 | EA14: 410.4 | EB14: 410.4
A15: 11 | B15: 731 | D15: нежилые помещения в жилом доме | E15: 51:О:НЖ- | F15: 50 | G15: г.Мурманск, | H15: о | I15: Воровского, 11 | J15: 1 | K15: 51 | L15: о | N15: 6558.6 | O15: 1081.8 | P15: 5476.8 | Q15: 1957 | R15: кирп. | S15: 1994 | T15: 7 | U15: 3 | V15: 34 | W15: 4540 | X15: 1402 | Y15: 37629 | AA15: 8260 | AC15: 5476.8 | AD15: 3534.5 | AE15: 5476.8 | AF15: 2783.2 | AG15: 1701.4 | AI15: 1803.5 | AJ15: 48.1 | AM15: 81 | AQ15: 42 | AR15: 2173.4 | AS15: 1359.6 | AT15: 37 | AU15: 2965 | AV15: 1939.4 | AW15: 2 | AX15: 338.4 | AY15: 235.5 | BJ15: 6 | BL15: 51 | BM15: о | BN15: 01010605 | BP15: Воровского д.11 | DU15: 1835 | DV15: 1803.5 | DW15: 10944415 | DX15: =DU15-EA15 -> 1786.9 | DY15: =DV15-EB15 -> 1755.4 | DZ15: =DX15*DW15/DU15 -> 10657534 | EA15: 48.1 | EB15: 48.1
A16: 12 | B16: 772 | D16: нежилые помещения в жилом доме | E16: 51:О:НЖ- | F16: 91 | G16: г.Мурманск, | H16: о | I16: К.Либкнехта, 15а | J16: 9 | K16: 101 | L16: о | N16: 1951.2 | O16: 327.9 | P16: 1623.3 | Q16: 1964 | R16: кирп. | S16: 1988 | T16: 6 | U16: 2 | V16: 18 | W16: 1918 | Y16: 7534 | AA16: 1951.2 | AB16: 0 | AC16: 1623.3 | AD16: 1048.2 | AE16: 1623.3 | AF16: 327.9 | AJ16: 47.2 | AM16: 40 | AN16: 10 | AO16: 354.4 | AP16: 184.6 | AQ16: 30 | AR16: 1268.6 | AS16: 863.6 | BL16: 101 | BM16: о | BN16: 01011037 | BP16: Карла Либкнехта д.15 а | DU16: 327.9 | DW16: 1467787.9 | DX16: =DU16-EA16 -> 280.7 | DY16: =DV16-EB16 -> 0 | DZ16: =DX16*DW16/DU16 -> 1256505.2 | EA16: 47.2 | EB16: 0
A17: 13 | B17: 789 | D17: нежилые помещения в жилом доме | E17: 51:О:НЖ- | F17: 108 | G17: г.Мурманск, | H17: о | I17: К.Маркса, 42 | J17: 12 | K17: 122 | L17: о | N17: 7019.8 | O17: 448.2 | P17: 6571.6 | Q17: 1987 | R17: кр.пан. | S17: 1987 | T17: 9 | U17: 3 | V17: - | X17: 1002 | Y17: 26062 | Z17: 6770.3 | AA17: 0 | AB17: 0 | AC17: 6322.1 | AD17: 3913.2 | AE17: 6571.6 | AF17: 448.2 | AI17: 0 | AJ17: 45.7 | AM17: 143 | AN17: 53 | AO17: 1599.2 | AP17: 844.4 | AQ17: 45 | AR17: 2103.9 | AS17: 1255.7 | AT17: 45 | AU17: 2619 | AV17: 1813 | BJ17: 3 | BL17: 122 | BM17: о | BN17: 01011207 | BP17: Карла Маркса д.42 | DU17: 448.2 | DW17: 3174897.9 | DX17: =DU17-EA17 -> 402.5 | DY17: =DV17-EB17 -> 0 | DZ17: =DX17*DW17/DU17 -> 2851174.5 | EA17: 45.7 | EB17: 0
A18: 14 | B18: 838 | D18: нежилые помещения в жилом доме | E18: 51:О:НЖ- | F18: 157 | G18: г.Мурманск, | H18: о | I18: Книповича, 45 | J18: 5 | K18: 177 | L18: о | N18: 3944.5 | O18: 148.4 | P18: 3796.1 | Q18: 1969 | R18: кирп. | S18: 1986 | T18: 5 | U18: 4 | V18: 8 | W18: 2969 | X18: 1001 | Y18: 17270 | AA18: 3944.5 | AB18: 0 | AC18: 3796.1 | AD18: 2599.3 | AE18: 3796.1 | AF18: 148.4 | AI18: 51.8 | AJ18: 51.8 | AM18: 80 | AN18: 12 | AO18: 379.9 | AP18: 162.3 | AQ18: 34 | AR18: 1565.7 | AS18: 1044.8 | AT18: 23 | AU18: 1105.7 | AV18: 1044.8 | AW18: 11 | AX18: 744.8 | AY18: 512.2 | BL18: 177 | BM18: о | BN18: 01010837 | BP18: Академика Книповича д.45 | DU18: 148.4 | DV18: 51.8 | DW18: 825689.7 | DX18: =DU18-EA18 -> 96.6 | DY18: =DV18-EB18 -> 0 | DZ18: =DX18*DW18/DU18 -> 537477.26 | EA18: 51.8 | EB18: 51.8
A19: 15 | B19: 926 | D19: нежилые помещения в жилом доме | E19: 51:О:НЖ- | F19: 245 | G19: г.Мурманск, | H19: о | I19: Мира, 21 | J19: 10 | K19: 282 | L19: о | N19: 4330.4 | O19: 322.7 | P19: 4007.7 | Q19: 1986 | R19: кр.пан. | S19: 1995 | T19: 9 | U19: 2 | V19: 5 | W19: - | X19: 755 | Y19: 16030 | Z19: 4153.9 | AA19: 0 | AB19: 0 | AC19: 3831.2 | AD19: 2622.3 | AE19: 4007.7 | AF19: 322.7 | AI19: 17.3 | AJ19: 17.3 | AL19: 305.4 | AM19: 72 | AQ19: 18 | AR19: 776.6 | AS19: 492.2 | AT19: 54 | AU19: 3405.6 | AV19: 2130.1 | BJ19: 2 | BL19: 282 | BM19: о | BN19: 01011102 | BP19: Мира д.21 | DU19: 322.7 | DV19: 17.3 | DW19: 3488476.6 | DX19: =DU19-EA19 -> 305.4 | DY19: =DV19-EB19 -> 0 | DZ19: =DX19*DW19/DU19 -> 3301458.8 | EA19: 17.3 | EB19: 17.3
A20: 16 | B20: 1036 | D20: нежилые помещения в жилом доме | E20: 51:О:НЖ- | F20: 355 | G20: г.Мурманск, | K20: 447 | L20: о | N20: 689.6 | O20: 0 | BL20: 447 | BM20: о | BP20: Полярные Зори д.14 | DU20: 689.6 | DW20: 3866212 | DX20: =DU20-EA20 -> 661.9 | DY20: =DV20-EB20 -> 0 | DZ20: =DX20*DW20/DU20 -> 3710913.2 | EA20: 27.7 | EB20: 0
A21: 17 | B21: 1047 | D21: нежилые помещения в жилом доме | E21: 51:О:НЖ- | F21: 366 | G21: г.Мурманск, | H21: о | I21: Полярные Зори, 21 к.3 | J21: 4 | K21: 458 | L21: о | N21: 4887.7 | O21: 294.5 | P21: 4593.2 | Q21: 1966 | R21: кирп. | S21: 1994 | T21: 5 | U21: 6 | V21: 21 | W21: 5428 | X21: 1332 | Y21: 18459 | AA21: 4887.7 | AB21: 0 | AC21: 4593.2 | AD21: 2974.1 | AE21: 4593.2 | AF21: 294.5 | AI21: 43.7 | AJ21: 43.7 | AM21: 114 | AN21: 29 | AO21: 887 | AP21: 520.4 | AQ21: 85 | AR21: 3706.2 | AS21: 2453.7 | BL21: 458 | BM21: о | BN21: 01010804 | BP21: Полярные Зори д.21 корп.3 | DU21: 119.1 | DV21: 43.7 | DW21: 516096.85 | DX21: =DU21-EA21 -> 75.4 | DY21: =DV21-EB21 -> 0 | DZ21: =DX21*DW21/DU21 -> 326731.34 | EA21: 43.7 | EB21: 43.7
A22: 18 | B22: 1059 | D22: нежилые помещения в жилом доме | E22: 51:О:НЖ- | F22: 378 | G22: г.Мурманск, | H22: о | I22: Полярные Зори, 33 к.3 | J22: 4 | K22: 471 | L22: о | N22: 5317.6 | O22: 533.7 | P22: 4783.9 | Q22: 1968 | R22: кирп. | S22: 1989 | T22: 5 | U22: 6 | V22: 20 | W22: 4352 | X22: 1371 | Y22: 20929 | AA22: 5317.6 | AB22: 0 | AC22: 4783.9 | AD22: 3095.6 | AE22: 4783.9 | AF22: 533.7 | AI22: 43.6 | AJ22: 43.6 | AL22: 490.1 | AM22: 120 | AN22: 30 | AO22: 909.7 | AP22: 533.3 | AQ22: 91 | AR22: 3915.8 | AS22: 2590.5 | BL22: 471 | BM22: о | BN22: 01010813 | BP22: Полярные Зори д.33 корп.3 | DU22: 147.1 | DV22: 43.6 | DW22: 628462.15 | DX22: =DU22-EA22 -> 103.5 | DY22: =DV22-EB22 -> 0 | DZ22: =DX22*DW22/DU22 -> 442187.85 | EA22: 43.6 | EB22: 43.6
A23: 19 | B23: 1071 | D23: нежилые помещения в жилом доме | E23: 51:О:НЖ- | F23: 390 | G23: г.Мурманск, | H23: о | I23: Полярные Зори, 42 | J23: 8 | K23: 483 | L23: о | N23: 3886.9 | O23: 1313.9 | P23: 2573 | Q23: 1964 | R23: кирп. | S23: 1985 | T23: 5 | U23: 4 | V23: 13 | W23: 2228 | X23: 1113 | Y23: 15837 | AA23: 3886.9 | AB23: 0 | AC23: 2573 | AD23: 1677.1 | AE23: 2573 | AF23: 1313.9 | AI23: 587.3 | AJ23: 39.7 | AM23: 64 | AN23: 16 | AO23: 490.5 | AP23: 299.2 | AQ23: 48 | AR23: 2082.5 | AS23: 1377.9 | BL23: 483 | BM23: о | BN23: 01011005 | BP23: Полярные Зори д.42 | DU23: 1313.9 | DV23: 587.3 | DW23: 4113019.1 | DX23: =DU23-EA23 -> 1256.2 | DY23: =DV23-EB23 -> 529.6 | DZ23: =DX23*DW23/DU23 -> 3932395.6 | EA23: 57.7 | EB23: 57.7
A24: 20 | B24: 1085 | D24: нежилые помещения в жилом доме | E24: 51:О:НЖ- | F24: 404 | G24: г.Мурманск, | H24: о | I24: Полярные Зори, 7 | J24: 3 | K24: 500 | L24: о | N24: 3732.1 | O24: 452.3 | P24: 3279.8 | Q24: 1967 | R24: кирп. | S24: 1990 | T24: 5 | U24: 4 | V24: 18 | W24: 3316 | X24: 926 | Y24: 14404 | AA24: 3732.1 | AC24: 3279.8 | AD24: 2130.4 | AE24: 3279.8 | AF24: 452.3 | AI24: 0 | AJ24: 44.8 | AL24: 452.3 | AM24: 80 | AN24: 20 | AO24: 617.8 | AP24: 358.8 | AQ24: 60 | AR24: 1771.6 | AS24: 2662 | BL24: 500 | BM24: о | BN24: 01010770 | BP24: Полярные Зори д.7 | DU24: 452.3 | DW24: 2508329.8 | DX24: =DU24-EA24 -> 407.5 | DY24: =DV24-EB24 -> 0 | DZ24: =DX24*DW24/DU24 -> 2259881.5 | EA24: 44.8 | EB24: 0
A25: 21 | B25: 1143 | D25: нежилые помещения в жилом доме | E25: 51:О:НЖ- | F25: 462 | G25: г.Мурманск, | H25: о | I25: пр.Ленина, 48 | J25: 2 | K25: 564 | L25: о | N25: 3531.8 | O25: 727.6 | P25: 2804.2 | Q25: 1973 | R25: кирп. | S25: 1994 | T25: 9 | U25: 1 | V25: 10 | W25: - | X25: 560 | Y25: 15056 | AA25: 3392.4 | AC25: 2664.8 | AD25: 1588.6 | AE25: 2804.2 | AF25: 727.6 | AI25: 239.9 | AJ25: 50.9 | AM25: 46 | AQ25: 29 | AR25: 1594 | AS25: 896.4 | AT25: 17 | AU25: 1070.8 | AV25: 692.2 | BJ25: 1 | BL25: 564 | BM25: о | BN25: 01010668 | BP25: пр.Ленина д.48 | DU25: 777.98 | DV25: 614.9 | DW25: 8963627.5 | DX25: =DU25-EA25 -> 686.38 | DY25: =DV25-EB25 -> 523.3 | DZ25: =DX25*DW25/DU25 -> 7908242.7 | EA25: 91.6 | EB25: 91.6
A26: 22 | B26: 1148 | D26: нежилые помещения в жилом доме | E26: 51:О:НЖ- | F26: 467 | G26: г.Мурманск, | H26: о | I26: пр.Ленина, 55 | J26: 2 | K26: 569 | L26: о | N26: 2241.3 | O26: 608.1 | P26: 1633.2 | Q26: 1938 | R26: кирп. | S26: 1988 | T26: 5 | U26: 3 | V26: 36 | W26: 2479 | X26: 772 | Y26: 12145 | AA26: 2235.4 | AC26: 1627.3 | AD26: 1082.9 | AE26: 1633.2 | AF26: 608.1 | AI26: 111.7 | AJ26: 38.5 | AM26: 20 | AQ26: 1 | AR26: 48.7 | AS26: 28.5 | AT26: 7 | AU26: 470 | AV26: 313.1 | AW26: 12 | AX26: 1108.6 | AY26: 741.3 | BL26: 569 | BM26: о | BP26: пр.Ленина д.55 | DU26: 531.9 | DV26: 111.7 | DW26: 3107381 | DX26: =DU26-EA26 -> 420.2 | DY26: =DV26-EB26 -> 0 | DZ26: =DX26*DW26/DU26 -> 2454825.2 | EA26: 111.7 | EB26: 111.7
A27: 23 | B27: 1167 | D27: нежилые помещения в жилом доме | E27: 51:О:НЖ- | F27: 486 | G27: г.Мурманск, | H27: о | I27: пр.Ленина, 79 | J27: 9 | K27: 589 | L27: о | N27: 2796.8 | O27: 838 | P27: 1958.8 | Q27: 1950 | R27: кирп. | S27: 1990 | T27: 5 | U27: 3 | V27: 28 | W27: 1496 | X27: 819 | Y27: 13247 | AA27: 2796.8 | AB27: 0 | AC27: 1958.8 | AD27: 1243.3 | AE27: 1958.8 | AF27: 838 | AI27: 433.2 | AJ27: 19.2 | AM27: 29 | AQ27: 7 | AR27: 316.2 | AS27: 180 | AT27: 15 | AU27: 1034.7 | AV27: 658.7 | AW27: 7 | AX27: 607.9 | AY27: 404.6 | BL27: 589 | BM27: о | BP27: пр.Ленина д.79 | DU27: 645.4 | DV27: 433.2 | DW27: 3188051 | DX27: =DU27-EA27 -> 558.4 | DY27: =DV27-EB27 -> 346.2 | DZ27: =DX27*DW27/DU27 -> 2758301.3 | EA27: 87 | EB27: 87
A28: 24 | B28: 1169 | C28: 729 | D28: нежилые помещения в жилом доме | E28: 51:О:НЖ- | F28: 488 | G28: г.Мурманск, | H28: о | I28: пр.Ленина, 80 | J28: 1 | K28: 591 | L28: о | N28: 9251.6 | O28: 2626 | P28: 6625.6 | Q28: 1951 | R28: кирп. | S28: 1990 | T28: 6 | U28: 8 | V28: 31 | W28: 4951 | X28: 2403 | Y28: 47691 | AA28: 9390.9 | AC28: 6593.4 | AD28: 3860.9 | AE28: 6625.6 | AF28: 2797.5 | AG28: 51.8 | AH28: 119.7 | AI28: 1369.7 | AJ28: 131.1 | AM28: 112 | AQ28: 71 | AR28: 3711.7 | AS28: 2010.8 | AT28: 37 | AU28: 2544 | AV28: 1623 | AW28: 4 | AX28: 337.7 | AY28: 227.1 | BL28: 591 | BM28: о | BN28: 01011045 | BP28: пр.Ленина д.80 | DU28: 1980.5 | DV28: 1369.7 | DW28: 8894946.4 | DX28: =DU28-EA28 -> 1822.9 | DY28: =DV28-EB28 -> 1212.1 | DZ28: =DX28*DW28/DU28 -> 8187123.4 | EA28: 157.6 | EB28: 157.6
A29: 25 | B29: 1179 | D29: нежилые помещения в жилом доме | E29: 51:О:НЖ- | F29: 498 | G29: г.Мурманск, | H29: о | I29: пр.Ленина, 92 | J29: 9 | K29: 602 | L29: о | N29: 2832 | O29: 933.6 | P29: 1898.4 | Q29: 1952 | R29: кирп. | S29: 1994 | T29: 5 | U29: 3 | V29: 37 | W29: 1549 | X29: 809 | Y29: 11431 | AA29: 2841.9 | AB29: 0 | AC29: 1887 | AD29: 1185.5 | AE29: 1898.4 | AF29: 933.6 | AI29: 456.7 | AJ29: 20.5 | AM29: 28 | AQ29: 8 | AR29: 315.5 | AS29: 203.8 | AT29: 13 | AU29: 969.1 | AV29: 567 | AW29: 7 | AX29: 602.4 | AY29: 414.7 | BL29: 602 | BM29: о | BP29: пр.Ленина д.92 | DU29: 673.3 | DV29: 456.7 | DW29: 4118024.5 | DX29: =DU29-EA29 -> 652.8 | DY29: =DV29-EB29 -> 436.2 | DZ29: =DX29*DW29/DU29 -> 3992642.8 | EA29: 20.5 | EB29: 20.5
A30: 26 | B30: 1325 | C30: 48 | D30: нежилые помещения в жилом доме | E30: 51:О:НЖ- | F30: 644 | G30: г.Мурманск, | H30: о | I30: Старостина, 4 | J30: 12 | K30: 797 | L30: о | N30: 2902.5 | O30: 240.2 | P30: 2662.3 | Q30: 1987 | R30: кр.пан. | S30: 1994 | T30: 9 | U30: 1 | V30: - | W30: 2232 | X30: 435 | Y30: 10577 | Z30: 2863.3 | AA30: 0 | AB30: 0 | AC30: 2623.1 | AD30: 1402.1 | AE30: 2662.3 | AF30: 240.2 | AI30: 17 | AJ30: 17 | AM30: 72 | AN30: 54 | AO30: 1649.6 | AP30: 871.8 | AQ30: 18 | AR30: 973.5 | AS30: 530.5 | BJ30: 1 | BL30: 797 | BM30: о | BN30: 01011248 | BP30: Старостина д.4 | DU30: 240.2 | DV30: 17 | DW30: 2897376.6 | DX30: =DU30-EA30 -> 240.2 | DY30: =DV30-EB30 -> 0 | DZ30: =DX30*DW30/DU30 -> 2897376.6 | EA30: 0 | EB30: 17
A31: 27 | B31: 1349 | D31: нежилые помещения в жилом доме | E31: 51:О:НЖ- | F31: 668 | G31: г.Мурманск, | H31: о | I31: Старостина, 95 | J31: 10 | K31: 827 | L31: о | N31: 2332.3 | O31: 32.6 | P31: 2299.7 | Q31: 1989 | R31: кр.пан. | S31: 1989 | T31: 9 | U31: 1 | V31: - | W31: 1249 | X31: 392 | Y31: 9998 | Z31: 2310.7 | AA31: 0 | AB31: 0 | AC31: 2278.1 | AD31: 1363.2 | AE31: 2299.7 | AF31: 32.6 | AI31: 32.6 | AJ31: 32.6 | AM31: 35 | AQ31: 17 | AR31: 945.2 | AS31: 558.5 | AT31: 17 | AU31: 1239.3 | AV31: 740.5 | AW31: 1 | AX31: 93.6 | AY31: 64.2 | BJ31: 1 | BL31: 827 | BM31: о | BN31: 01011155 | BP31: Старостина д.95 | DU31: 32.6 | DV31: 32.6 | DW31: 408000.15 | DX31: =DU31-EA31 -> 16.1 | DY31: =DV31-EB31 -> 16.1 | DZ31: =DX31*DW31/DU31 -> 201497.01 | EA31: 16.5 | EB31: 16.5
A32: 28 | B32: 1375 | C32: 229 | D32: нежилые помещения в жилом доме | E32: 51:О:НЖ- | F32: 694 | G32: г.Мурманск, | H32: о | I32: Театральный бульвар, 8 | J32: 2 | K32: 853 | L32: о | N32: 8852.6 | O32: 1908.7 | P32: 6943.9 | Q32: 1971 | R32: кирп. | S32: 1989 | T32: 6 | U32: 10 | V32: 11 | W32: 5276 | X32: 2534 | Y32: 43617 | AA32: 9444.6 | AC32: 6937.2 | AD32: 4717.6 | AE32: 6943.9 | AF32: 2507.4 | AH32: 598.7 | AI32: 1339.1 | AJ32: 101.3 | AM32: 133 | AN32: 26 | AO32: 806 | AP32: 450.2 | AQ32: 45 | AR32: 2034.8 | AS32: 1346.7 | AT32: 46 | AU32: 2793.7 | AV32: 1967.5 | AW32: 16 | AX32: 1302.7 | AY32: 953.2 | BL32: 853 | BM32: о | BN32: 01010689 | BP32: Театральный бульвар д.8 | DU32: 1735 | DV32: 1339.1 | DW32: 13676771 | DX32: =DU32-EA32 -> 1622.9 | DY32: =DV32-EB32 -> 1227 | DZ32: =DX32*DW32/DU32 -> 12793102 | EA32: 112.1 | EB32: 112.1
A33: 29 | B33: 1389 | C33: 739 | D33: нежилые помещения в жилом доме | E33: 51:О:НЖ- | F33: 708 | G33: г.Мурманск, | H33: о | I33: Фролова, 15/55 | J33: 6 | K33: 870 | L33: о | N33: 3367.2 | O33: 333.1 | P33: 3034.1 | Q33: 1961 | R33: кирп. | S33: 1994 | T33: 5 | U33: 4 | V33: 18 | W33: 2107 | X33: 914 | Y33: 13025 | AA33: 3367.2 | AB33: 0 | AC33: 3034.1 | AD33: 1954.2 | AE33: 3034.1 | AF33: 333.1 | AI33: 143.9 | AJ33: 14.7 | AM33: 75 | AN33: 18 | AO33: 577.4 | AP33: 332.3 | AQ33: 57 | AR33: 2456.7 | AS33: 1621.9 | BL33: 870 | BM33: о | BP33: Генерала Фролова д.15/55 | DU33: 333.1 | DV33: 143.9 | DW33: 1596322.9 | DX33: =DU33-EA33 -> 271.7 | DY33: =DV33-EB33 -> 82.5 | DZ33: =DX33*DW33/DU33 -> 1302074.2 | EA33: 61.4 | EB33: 61.4
A34: 30 | B34: 1413 | D34: нежилые помещения в жилом доме | E34: 51:О:НЖ- | F34: 732 | G34: г.Мурманск, | H34: о | I34: Челюскинцев, 7 | J34: 9 | K34: 901 | L34: о | N34: 6283 | O34: 1318.2 | P34: 4964.8 | Q34: 1955 | R34: кирп. | S34: 1989 | T34: 5 | U34: 6 | V34: 26 | W34: 10881 | X34: 1818 | Y34: 33300 | AA34: 6911.1 | AB34: 0 | AC34: 4964.8 | AD34: 2866.1 | AE34: 4964.8 | AF34: 1946.3 | AG34: 536.3 | AH34: 91.8 | AI34: 747.7 | AJ34: 38.5 | AM34: 80 | AQ34: 47 | AR34: 2420.8 | AS34: 1265.6 | AT34: 25 | AU34: 1800.4 | AV34: 1104.6 | AW34: 8 | AX34: 744.1 | AY34: 495.9 | BL34: 901 | BM34: о | BN34: 01011079 | BP34: Челюскинцев д.7 | DU34: 917.5 | DV34: 747.7 | DW34: 3891754.5 | DX34: =DU34-EA34 -> 835 | DY34: =DV34-EB34 -> 731.6 | DZ34: =DX34*DW34/DU34 -> 3541814.7 | EA34: 82.5 | EB34: 16.1
A35: 31 | B35: 1428 | D35: нежилые помещения в жилом доме | E35: 51:О:НЖ- | F35: 747 | G35: г.Мурманск, | H35: о | I35: Шмидта, 45 | J35: 1 | K35: 925 | L35: о | N35: 5464.3 | O35: 1400.5 | P35: 4063.8 | Q35: 1961-64 | R35: кирп. | S35: 1999 | T35: 5 | U35: 6 | V35: 25 | W35: 3978 | X35: 1376 | Y35: 22273 | AA35: 5464.3 | AC35: 4063.8 | AD35: 2690.6 | AE35: 4063.8 | AF35: 1400.5 | AI35: 640.8 | AJ35: 58.4 | AK35: 3.1 | AM35: 101 | AN35: 41 | AO35: 1271.3 | AP35: 760.4 | AQ35: 44 | AR35: 1894.9 | AS35: 1235.2 | AT35: 16 | AU35: 897.6 | AV35: 669.2 | BL35: 925 | BM35: о | BN35: 01010705 | BP35: Шмидта д.45 | DU35: 1315.2 | DV35: 640.8 | DW35: 2616155.5 | DX35: =DU35-EA35 -> 1253.7 | DY35: =DV35-EB35 -> 579.3 | DZ35: =DX35*DW35/DU35 -> 2493821.6 | EA35: 61.5 | EB35: 61.5
A36: 32 | B36: 1490 | C36: 214 | D36: нежилые помещения в жилом доме | E36: 51:П:НЖ- | F36: 58 | G36: г.Мурманск, | H36: п | I36: Баумана, 59 | J36: 10 | K36: 59 | L36: п | N36: 2515.7 | O36: 55 | P36: 2460.7 | Q36: 1988 | R36: кр.пан | S36: 1990 | T36: 9 | U36: 1 | V36: - | W36: 1860 | X36: 445 | Y36: 9570 | Z36: 2386.5 | AC36: 2331.5 | AD36: 1249.3 | AE36: 2460.7 | AF36: 55 | AI36: 16.2 | AJ36: 16.2 | AM36: 44 | AN36: 9 | AO36: 416.2 | AP36: 150.4 | AQ36: 27 | AR36: 1337.4 | AS36: 728.4 | AT36: 8 | AU36: 577.9 | AW36: 370.5 | BL36: 59 | BM36: п | BN36: 01011382 | BP36: Баумана д.59 | BQ36: Баумана д.59 | BR36: 28310534 | BU36: 28310534 | BY36: 60507282 | CB36: 60507282 | CC36: 515 | CF36: 60507282 | CI36: 4949971 | CL36: 0.7 | CN36: 4949971 | CP36: 1815 | CQ36: нж- | CR36: п- | CS36: 65 | CT36: Баумана д.59 | CU36: 55 | CV36: 16.2 | CW36: 11253.541 | CX36: 618944.77 | DU36: 55 | DV36: 16.2 | DW36: 618944.77 | DX36: =DU36-EA36 -> 38.8 | DY36: =DV36-EB36 -> 0 | DZ36: =DX36*DW36/DU36 -> 436637.4 | EA36: 16.2 | EB36: 16.2
A37: 33 | B37: 1498 | C37: 226 | D37: нежилые помещения в жилом доме | E37: 51:П:НЖ- | F37: 66 | G37: г.Мурманск, | H37: п | I37: Беринга, 15 | J37: 7 | K37: 69 | L37: п | N37: 4293.6 | O37: 90.4 | P37: 4203.2 | Q37: 1977 | R37: кр.пан. | S37: 1987 | T37: 9 | U37: 2 | V37: 8 | W37: 3009 | X37: 695 | Y37: 16710 | Z37: 4118.8 | AC37: 4028.4 | AD37: 2730.2 | AE37: 4203.2 | AF37: 90.4 | AI37: 33.3 | AJ37: 33.3 | AM37: 75 | AQ37: 37 | AR37: 1602 | AS37: 1008.6 | AT37: 38 | AU37: 2426.4 | AW37: 1721.6 | BL37: 69 | BM37: п | BP37: Беринга д.15 | DU37: 289.1 | DV37: 33.3 | DW37: 2015754.8 | DX37: =DU37-EA37 -> 232.7 | DY37: =DV37-EB37 -> 0 | DZ37: =DX37*DW37/DU37 -> 1622504.8 | EA37: 56.4 | EB37: 33.3
A38: 34 | B38: 1526 | C38: 67 | D38: нежилые помещения в жилом доме | E38: 51:П:НЖ- | F38: 94 | G38: г.Мурманск, | H38: п | I38: Бочкова, 8 | K38: 113 | L38: п | N38: 7890.2 | O38: 22.1 | P38: 7868.1 | Q38: 1976 | R38: кр.пан | S38: 9 | T38: 4 | U38: 1992 | V38: 11 | W38: 5094 | X38: 1320 | Y38: 30547 | Z38: 7620.6 | AC38: 7533.7 | AD38: 5138.2 | AE38: 7868.1 | AF38: 86.9 | AH38: 64.8 | AI38: 34.3 | AJ38: 34.3 | AM38: 143 | AQ38: 54 | AR38: 2804.6 | AS38: 1472.9 | AT38: 89 | AU38: 4729.1 | AW38: 3665.3 | BL38: 113 | BM38: п | BN38: 01011809 | BP38: Бочкова д.8 | DU38: 86.9 | DV38: 34.3 | DW38: 537276.68 | DX38: =DU38-EA38 -> 52.6 | DY38: =DV38-EB38 -> 0 | DZ38: =DX38*DW38/DU38 -> 325210.05 | EA38: 34.3 | EB38: 34.3
A39: 35 | B39: 1556 | C39: 47 | D39: нежилые помещения в жилом доме | E39: 51:П:НЖ- | F39: 124 | G39: г.Мурманск, | H39: п | I39: Г.Рыбачьего, 43 | J39: 11 | K39: 151 | L39: п | N39: 1651.7 | O39: 430.3 | P39: 1221.4 | Q39: 1983 | R39: кр.пан. | S39: 1989 | T39: 9 | U39: 1 | V39: 3 | W39: 1119 | X39: 515 | Y39: 7211 | Z39: 1622.7 | AC39: 1192.4 | AD39: 700.1 | AE39: 1221.4 | AF39: 430.3 | AI39: 97.4 | AJ39: 29.9 | AM39: 32 | AN39: 16 | AO39: 512.9 | AP39: 269.3 | AQ39: 16 | AR39: 679.5 | AS39: 430.8 | BL39: 151 | BM39: п | BN39: 01012027 | BP39: Героев Рыбачьего д.43 | DU39: 430.3 | DV39: 97.4 | DW39: 4024046.2 | DX39: =DU39-EA39 -> 332.9 | DY39: =DV39-EB39 -> 0 | DZ39: =DX39*DW39/DU39 -> 3113188.4 | EA39: 97.4 | EB39: 97.4
A40: 36 | B40: 1758 | C40: 40 | D40: нежилые помещения в жилом доме | E40: 51:П:НЖ- | F40: 326 | G40: г.Мурманск, | H40: п | I40: Крупской, 40а общ | J40: 11 | K40: 418 | L40: п | N40: 5348.2 | O40: 532.6 | P40: 4815.6 | Q40: 1985 | R40: кр.пан. | S40: 1989 | T40: 9 | U40: 2 | V40: - | W40: 6512 | X40: 1091 | Y40: 26658 | Z40: 5302.4 | AC40: 4769.8 | AD40: 3130.1 | AE40: 4815.6 | AF40: 532.6 | AI40: 107.4 | AJ40: 50.3 | AK40: 82 | BD40: 214 | BE40: 4765.3 | BF40: 3130.1 | BL40: 418 | BM40: п | BN40: 01012011 | BP40: Крупской д.40 а | DU40: 529.1 | DV40: 107.4 | DW40: 7445269.3 | DX40: =DU40-EA40 -> 385.2 | DY40: =DV40-EB40 -> 0 | DZ40: =DX40*DW40/DU40 -> 5420369.9 | EA40: 143.9 | EB40: 107.4
A41: 37 | B41: 1867 | D41: нежилые помещения в жилом доме | E41: 51:П:НЖ- | F41: 435 | G41: г.Мурманск, | H41: п | I41: Орликовой, 3 | J41: 4 | K41: 561 | L41: п | N41: 1399.7 | O41: 35.5 | P41: 1364.2 | Q41: 1988 | R41: кр.пан. | S41: 10 | T41: 1 | U41: 1995 | V41: 6 | W41: 790 | X41: 606 | Y41: 8039 | Z41: 1766.1 | AC41: 1325.2 | AD41: 784.2 | AE41: 1364.2 | AF41: 440.9 | AG41: 405.4 | AI41: 73 | AJ41: 16.7 | AK41: 18.8 | AM41: 35 | AN41: 17 | AO41: 546.1 | AP41: 285 | AQ41: 17 | AR41: 718.8 | AS41: 454.5 | AT41: 1 | AU41: 60.3 | AW41: 44.7 | BL41: 561 | BM41: п | BN41: 01011357 | BP41: Капитана Орликовой д.3 | DU41: 440.9 | DV41: 73 | DW41: 1748808.1 | DX41: =DU41-EA41 -> 419.3 | DY41: =DV41-EB41 -> 51.4 | DZ41: =DX41*DW41/DU41 -> 1663132.8 | EA41: 21.6 | EB41: 21.6
A42: 38 | B42: 1910 | D42: нежилые помещения в жилом доме | E42: 51:П:НЖ- | F42: 478 | G42: г.Мурманск, | H42: п | I42: пер.Якорный, 14 | J42: 7 | K42: 613 | L42: п | N42: 12359.5 | O42: 573.8 | P42: 11785.7 | Q42: 1977 | R42: кр.пан. | S42: 1988 | T42: 9 | U42: 6 | V42: 9 | W42: - | X42: 7200 | Y42: 47093 | Z42: 11944.1 | AC42: 11370.3 | AD42: 7731.8 | AE42: 11785.7 | AF42: 573.8 | AI42: 50.5 | AJ42: 50.5 | AM42: 216 | AN42: 0 | AO42: 0 | AP42: 0 | AQ42: 99 | AR42: 4329.4 | AS42: 2721.5 | AT42: 117 | AU42: 6360 | AW42: 5010.3 | BL42: 613 | BM42: п | BN42: 01011896 | BP42: пер.Якорный д.14 | DU42: 723.8 | DV42: 50.5 | DW42: 4846708.7 | DX42: =DU42-EA42 -> 673.3 | DY42: =DV42-EB42 -> 0 | DZ42: =DX42*DW42/DU42 -> 4508550.7 | EA42: 50.5 | EB42: 50.5
A43: 39 | B43: 1933 | C43: 101 | D43: нежилые помещения в жилом доме | E43: 51:П:НЖ- | F43: 501 | G43: г.Мурманск, | H43: п | I43: Полярный круг, 10 | J43: 14 | K43: 650 | L43: п | N43: 1774.4 | O43: 202.6 | P43: 1571.8 | Q43: 1973 | R43: кирп. | S43: 5 | T43: 1 | U43: 1993 | V43: 14 | W43: 1083 | X43: 631 | Y43: 7859 | AA43: 1852.6 | AC43: 1563.4 | AD43: 978 | AE43: 1571.8 | AF43: 289.2 | AH43: 86.6 | AI43: 0 | AJ43: 0 | AK43: 19.5 | AL43: 242.3 | AM43: 29 | AN43: 6 | AO43: 181 | AP43: 93.7 | AQ43: 5 | AR43: 205 | AS43: 126.6 | AT43: 18 | AU43: 1177.4 | AW43: 757.7 | BL43: 650 | BM43: п | BN43: 01011724 | BP43: Полярный Круг д.10 | DU43: 202.6 | DW43: 1748868.9 | DX43: =DU43-EA43 -> 183.1 | DY43: =DV43-EB43 -> 0 | DZ43: =DX43*DW43/DU43 -> 1580542.4 | EA43: 19.5 | EB43: 0
A44: 40 | B44: 1956 | D44: нежилые помещения в жилом доме | E44: 51:П:НЖ- | F44: 524 | G44: г.Мурманск, | H44: п | I44: пр.Кирова, 23 | J44: 6 | K44: 674 | L44: п | N44: 5416.2 | O44: 462.6 | P44: 4953.6 | Q44: 1974 | R44: кирп. | S44: 6 | T44: 6. | U44: 1995 | V44: 16 | W44: 3636 | X44: 1636 | Y44: 23944 | AA44: 5850.8 | AC44: 4873.9 | AD44: 2646.7 | AE44: 4953.6 | AF44: 976.9 | AG44: 514.3 | AI44: 446.4 | AJ44: 48.3 | AK44: 42.1 | AL44: 514.3 | AM44: 93 | AN44: 27 | AO44: 1012.9 | AP44: 434.7 | AQ44: 61 | AR44: 3507.8 | AS44: 1969.1 | AT44: 5 | AU44: 353.2 | AV44: 242.9 | AW44: 242.9 | BL44: 674 | BM44: п | BN44: 01012671 | BP44: пр.Кирова д.23 | DU44: 976.9 | DV44: 446.4 | DW44: 3588214.2 | DX44: =DU44-EA44 -> 862 | DY44: =DV44-EB44 -> 347.7 | DZ44: =DX44*DW44/DU44 -> 3166179.4 | EA44: 114.9 | EB44: 98.7
A45: 41 | B45: 1962 | D45: нежилые помещения в жилом доме | E45: 51:П:НЖ- | F45: 530 | G45: г.Мурманск, | H45: п | I45: пр.Кирова, 39 | J45: 4 | K45: 682 | L45: п | N45: 2510.3 | O45: 185.7 | P45: 2324.6 | Q45: 1993 | R45: кр.пан. | S45: 9 | T45: 1 | U45: 1993 | V45: - | W45: - | X45: 401 | Y45: 10626 | Z45: 2477.9 | AC45: 2292.2 | AD45: 1398.4 | AE45: 2324.6 | AF45: 185.7 | AI45: 16.3 | AJ45: 16.3 | AM45: 36 | AN45: 0 | AO45: 0 | AP45: 0 | AQ45: 18 | AR45: 992.6 | AS45: 588.9 | AT45: 18 | AU45: 1299.6 | AW45: 809.5 | BL45: 682 | BM45: п | BN45: 01011329 | BP45: пр.Кирова д.39 | DU45: 185.7 | DV45: 16.3 | DW45: 934306.54 | DX45: =DU45-EA45 -> 169.4 | DY45: =DV45-EB45 -> 0 | DZ45: =DX45*DW45/DU45 -> 852296.86 | EA45: 16.3 | EB45: 16.3
A46: 42 | B46: 1972 | D46: нежилые помещения в жилом доме | E46: 51:П:НЖ- | F46: 540 | G46: г.Мурманск, | H46: п | I46: пр.Кольский, 104к.4 | J46: 12 | K46: 694 | L46: п | N46: 1624.7 | O46: 372.3 | P46: 1252.4 | Q46: 1981 | R46: кр.пан. | S46: 9 | T46: 1 | U46: 1992 | V46: 7 | W46: - | X46: 505 | Y46: 7054 | Z46: 1590.9 | AC46: 1218.6 | AD46: 706.2 | AE46: 1252.4 | AF46: 372.3 | AI46: 24.9 | AJ46: 24.9 | AM46: 32 | AN46: 16 | AO46: 527.2 | AP46: 271.6 | AQ46: 16 | AR46: 691.4 | AS46: 434.6 | BL46: 694 | BM46: п | BN46: 01012137 | BP46: пр.Кольский д.104 корп.4 | DU46: 372.3 | DV46: 24.9 | DW46: 3665476 | DX46: =DU46-EA46 -> 347.4 | DY46: =DV46-EB46 -> 0 | DZ46: =DX46*DW46/DU46 -> 3420323.3 | EA46: 24.9 | EB46: 24.9
A47: 43 | B47: 2043 | D47: нежилые помещения в жилом доме | E47: 51:П:НЖ- | F47: 611 | G47: г.Мурманск, | H47: п | I47: пр.Кольский, 172 | J47: 7 | K47: 778 | L47: п | N47: 5827.5 | O47: 198.3 | P47: 5629.2 | Q47: 1977 | R47: кр.пан. | S47: 1986 | T47: 9 | U47: 2 | V47: 7 | W47: 2240 | X47: 852 | Y47: 21707 | Z47: 5705.1 | AC47: 5506.8 | AD47: 2928.7 | AE47: 5629.2 | AF47: 198.3 | AI47: 51.6 | AJ47: 51.6 | AM47: 144 | AQ47: 108 | AR47: 3357.8 | AS47: 1755.5 | AT47: 36 | AU47: 1975.2 | AW47: 1070.8 | BD47: 1кв.9ком | BE47: 174.3 | BF47: 102.4 | BL47: 778 | BM47: п | BN47: 01011834 | BP47: пр.Кольский д.172 | DU47: 198.3 | DV47: 51.6 | DW47: 1276366.7 | DX47: =DU47-EA47 -> 146.7 | DY47: =DV47-EB47 -> 0 | DZ47: =DX47*DW47/DU47 -> 944241 | EA47: 51.6 | EB47: 51.6
A48: 44 | B48: 2078 | D48: нежилые помещения в жилом доме | E48: 51:П:НЖ- | F48: 646 | G48: г.Мурманск, | H48: п | I48: пр.Кольский, 39 | J48: 14 | K48: 818 | L48: п | N48: 4382.2 | O48: 83.4 | P48: 4298.8 | Q48: 1972 | R48: кр.пан. | S48: 9 | T48: 2 | U48: 1991 | V48: 16 | W48: 5853 | X48: 661 | Y48: 16703 | Z48: 4191.7 | AC48: 4108.3 | AD48: 2802.4 | AE48: 4298.8 | AF48: 83.4 | AI48: 0 | AJ48: 47.2 | AK48: 13.4 | AL48: 283.8 | AM48: 76 | AQ48: 19 | AR48: 835.7 | AS48: 527.7 | AT48: 57 | AU48: 3272.6 | AW48: 2274.7 | BL48: 818 | BM48: п | BP48: пр.Кольский д.39 | DU48: 83.4 | DW48: 544603.69 | DX48: =DU48-EA48 -> 35.2 | DY48: =DV48-EB48 -> 0 | DZ48: =DX48*DW48/DU48 -> 229856.71 | EA48: 48.2 | EB48: 0
A49: 45 | B49: 2123 | C49: 737 | D49: нежилые помещения в жилом доме | E49: 51:П:НЖ- | F49: 691 | G49: г.Мурманск, | H49: п | I49: Прибрежная, 6 | K49: 868 | L49: п | N49: 3171.2 | O49: 183.6 | P49: 2987.6 | Q49: 1978 | R49: кр.пан. | S49: 1993 | T49: 5 | U49: 4 | V49: 10 | W49: 4497 | X49: 757 | Y49: 12720 | Z49: 3126.2 | AC49: 2942.6 | AD49: 1657.7 | AE49: 2987.6 | AF49: 183.6 | AI49: 35.5 | AJ49: 35.5 | AM49: 64 | AN49: 15 | AO49: 502.5 | AP49: 213.7 | AQ49: 39 | AR49: 1828.5 | AS49: 1035.7 | AT49: 10 | AU49: 611.6 | AW49: 408.3 | BL49: 868 | BM49: п | BP49: Прибрежная д.6 | DU49: 183.6 | DV49: 35.5 | DW49: 1623853.7 | DX49: =DU49-EA49 -> 92.3 | DY49: =DV49-EB49 -> 0 | DZ49: =DX49*DW49/DU49 -> 816349.11 | EA49: 91.3 | EB49: 35.5
A50: 46 | B50: 2149 | D50: нежилые помещения в жилом доме | E50: 51:П:НЖ- | F50: 717 | G50: г.Мурманск, | H50: п | I50: Фрунзе, 17 | J50: 6 | K50: 914 | L50: п | N50: 1651.7 | O50: 353.9 | P50: 1297.8 | Q50: 1952 | R50: кирп. | S50: 2 | T50: 3 | U50: 1994 | V50: 40 | W50: 1945 | X50: 964 | Y50: 7165 | AA50: 1647.7 | AC50: 1293.8 | AD50: 816.2 | AE50: 1297.8 | AF50: 353.9 | AI50: 274.4 | AJ50: 84.9 | AM50: 17 | AN50: 0 | AO50: 0 | AP50: 0 | AQ50: 0 | AR50: 0 | AS50: 0 | AT50: 4 | AU50: 234.2 | AW50: 145.9 | AX50: 13 | AY50: 1059.6 | AZ50: 670.3 | BL50: 914 | BM50: п | BN50: 01012975 | BP50: Фрунзе д.17 | DU50: 353.9 | DV50: 274.4 | DW50: 1636043 | DX50: =DU50-EA50 -> 79.5 | DY50: =DV50-EB50 -> 0 | DZ50: =DX50*DW50/DU50 -> 367520.26 | EA50: 274.4 | EB50: 274.4
A51: 47 | B51: 2154 | C51: 273 | D51: нежилые помещения в жилом доме | E51: 51:П:НЖ- | F51: 722 | G51: г.Мурманск, | H51: =[2]рабочее!G2172 -> п | I51: =[2]рабочее!H2172 -> Фрунзе, 5/5 | J51: =[2]рабочее!I2172 -> 6 | K51: =[2]рабочее!J2172 -> 936 | L51: =[2]рабочее!K2172 -> п | M51: =[2]рабочее!L2172 -> 0 | N51: =[2]рабочее!M2172 -> 1027.6 | O51: =[2]рабочее!N2172 -> 204.3 | ... BO51: =[2]рабочее!BN2172 -> 0 | BP51: Фрунзе д.5/5 | DU51: 204.3 | DW51: 780855.83 | DX51: =DU51-EA51 -> 189.4 | DY51: =DV51-EB51 -> 0 | DZ51: =DX51*DW51/DU51 -> 723906.48 | EA51: 14.9 | EB51: 0
A52: 48 | B52: 2157 | D52: нежилые помещения в жилом доме | E52: 51:П:НЖ- | F52: 725 | G52: г.Мурманск, | H52: п | I52: Халтурина, 11 | J52: 6 | K52: 939 | L52: п | N52: 3529.6 | O52: 149 | P52: 3380.6 | Q52: 1970 | R52: кирп. | S52: 5 | T52: 4 | U52: 1993 | V52: 11 | W52: 2893 | X52: 1032 | Y52: 1609.2 | AA52: 3985.1 | AC52: 3374.3 | AD52: 2265.1 | AE52: 3380.6 | AF52: 610.8 | AG52: 461.8 | AI52: 149 | AJ52: 31.1 | AL52: 461.8 | AM52: 70 | AN52: 10 | AO52: 303.3 | AP52: 163.9 | AQ52: 30 | AR52: 1358.5 | AS52: 884.4 | AT52: 20 | AU52: 1099.5 | AW52: 759.6 | AX52: 10 | AY52: 613 | AZ52: 458 | BL52: 939 | BM52: п | BN52: 01011573 | BP52: Халтурина д.11 | DU52: 610.8 | DV52: 149 | DW52: 2055844.9 | DX52: =DU52-EA52 -> 579.7 | DY52: =DV52-EB52 -> 117.9 | DZ52: =DX52*DW52/DU52 -> 1951167.8 | EA52: 31.1 | EB52: 31.1
A53: ИТОГО: | DN53: =SUM(DN5:DN52) -> 0 | DO53: =SUM(DO5:DO52) -> 0 | DU53: =SUM(DU5:DU52) -> 26554.88 | DV53: =SUM(DV5:DV52) -> 11877.8 | DW53: =SUM(DW5:DW52) -> 1.4992238e+08 | DX53: =SUM(DX5:DX52) -> 23281.68 | DY53: =SUM(DY5:DY52) -> 9085.6 | DZ53: =SUM(DZ5:DZ52) -> 1.296535e+08
A54: Глава муниципального образования город Мурманск | DZ54: А.Б. Веллер
